BEGIN:VCALENDAR
PRODID:-//eluceo/ical//2.0/EN
VERSION:2.0
CALSCALE:GREGORIAN
BEGIN:VEVENT
UID:bf42bf8f3d179ab7b632da57dbc187d3
DTSTAMP:20260423T073023Z
SUMMARY:Hüft- und Knieprothesen past - present and future
DESCRIPTION:Web stranica: http://www.lacouronne-solothurn.ch
URL:https://rotary-solothurn.ch/bs/agenda/show/134095
DTSTART;TZID=Europe/Zurich:20211115T121500
DTEND;TZID=Europe/Zurich:20211115T140000
LOCATION:La Couronne\, Hauptgasse 64\, 4500 Solothurn
CATEGORIES:Rotary
END:VEVENT
BEGIN:VTIMEZONE
TZID:Europe/Zurich
BEGIN:STANDARD
DTSTART:20211115T121500
TZNAME:CET
TZOFFSETTO:+0100
TZOFFSETFROM:+0100
END:STANDARD
END:VTIMEZONE
END:VCALENDAR
