BEGIN:VCALENDAR
PRODID:-//eluceo/ical//2.0/EN
VERSION:2.0
CALSCALE:GREGORIAN
BEGIN:VEVENT
UID:5bcec37f28fb2deba1b979f0473aed09
DTSTAMP:20260423T060505Z
SUMMARY:Twint\, die Erfindung einer Bezahl App revolutioniert die CH
DESCRIPTION:Web stranica: http://www.lacouronne-solothurn.ch
URL:https://rotary-solothurn.ch/bs/agenda/show/134112
DTSTART;TZID=Europe/Zurich:20220328T121500
DTEND;TZID=Europe/Zurich:20220328T140000
LOCATION:La Couronne\, Hauptgasse 64\, 4500 Solothurn
CATEGORIES:Rotary
END:VEVENT
BEGIN:VTIMEZONE
TZID:Europe/Zurich
BEGIN:DAYLIGHT
DTSTART:20220328T121500
TZNAME:CEST
TZOFFSETTO:+0200
TZOFFSETFROM:+0200
END:DAYLIGHT
END:VTIMEZONE
END:VCALENDAR
