BEGIN:VCALENDAR
PRODID:-//eluceo/ical//2.0/EN
VERSION:2.0
CALSCALE:GREGORIAN
BEGIN:VEVENT
UID:4c6c05f6a64d376a48210654799f9018
DTSTAMP:20260423T053950Z
SUMMARY:Rotary-Frühstück
DESCRIPTION:Web stranica: https://gasthofenge.ch/
URL:https://rotary-solothurn.ch/bs/agenda/show/134114
DTSTART;TZID=Europe/Zurich:20220407T070000
DTEND;TZID=Europe/Zurich:20220407T074500
LOCATION:Restaurant Enge Biberist
CATEGORIES:Rotary
END:VEVENT
BEGIN:VTIMEZONE
TZID:Europe/Zurich
BEGIN:DAYLIGHT
DTSTART:20220407T070000
TZNAME:CEST
TZOFFSETTO:+0200
TZOFFSETFROM:+0200
END:DAYLIGHT
END:VTIMEZONE
END:VCALENDAR
