BEGIN:VCALENDAR
PRODID:-//eluceo/ical//2.0/EN
VERSION:2.0
CALSCALE:GREGORIAN
BEGIN:VEVENT
UID:a427d0a7cb15f44061763e5a87895332
DTSTAMP:20260423T054809Z
SUMMARY:Öufi-Bier
DESCRIPTION:Web stranica: http://www.oeufi-bier.ch
URL:https://rotary-solothurn.ch/bs/agenda/show/134117
DTSTART;TZID=Europe/Zurich:20220420T180000
DTEND;TZID=Europe/Zurich:20220420T200000
LOCATION:Öufi-Beiz und Brauerei   / Präsenzapéro\, Fabrikstrasse 4\, 450
 0 Solothurn
CATEGORIES:Rotary
END:VEVENT
BEGIN:VTIMEZONE
TZID:Europe/Zurich
BEGIN:DAYLIGHT
DTSTART:20220420T180000
TZNAME:CEST
TZOFFSETTO:+0200
TZOFFSETFROM:+0200
END:DAYLIGHT
END:VTIMEZONE
END:VCALENDAR
