BEGIN:VCALENDAR
PRODID:-//eluceo/ical//2.0/EN
VERSION:2.0
CALSCALE:GREGORIAN
BEGIN:VEVENT
UID:61b951f35fe77ddcef592d48aea5f273
DTSTAMP:20260423T054204Z
SUMMARY:Technikwelt ENTER
DESCRIPTION:Web stranica: http://www.lacouronne-solothurn.ch
URL:https://rotary-solothurn.ch/bs/agenda/show/134118
DTSTART;TZID=Europe/Zurich:20220425T121500
DTEND;TZID=Europe/Zurich:20220425T140000
LOCATION:La Couronne\, Hauptgasse 64\, 4500 Solothurn
CATEGORIES:Rotary
END:VEVENT
BEGIN:VTIMEZONE
TZID:Europe/Zurich
BEGIN:DAYLIGHT
DTSTART:20220425T121500
TZNAME:CEST
TZOFFSETTO:+0200
TZOFFSETFROM:+0200
END:DAYLIGHT
END:VTIMEZONE
END:VCALENDAR
