BEGIN:VCALENDAR
PRODID:-//eluceo/ical//2.0/EN
VERSION:2.0
CALSCALE:GREGORIAN
BEGIN:VEVENT
UID:929b09ffd18b258d2e080ff7828654ed
DTSTAMP:20260423T035554Z
SUMMARY:Eindrücke und Erfahrungen aus der Newlands Clinic Simbabwe
DESCRIPTION:Web stranica: http://www.lacouronne-solothurn.ch\nGovornik(ci):
  PD Dr. Stefan Zimmerli
URL:https://rotary-solothurn.ch/bs/agenda/show/136481
DTSTART;TZID=Europe/Zurich:20220620T121500
DTEND;TZID=Europe/Zurich:20220620T140000
LOCATION:La Couronne\, Hauptgasse 64\, 4500 Solothurn
CATEGORIES:Rotary
END:VEVENT
BEGIN:VTIMEZONE
TZID:Europe/Zurich
BEGIN:DAYLIGHT
DTSTART:20220620T121500
TZNAME:CEST
TZOFFSETTO:+0200
TZOFFSETFROM:+0200
END:DAYLIGHT
END:VTIMEZONE
END:VCALENDAR
