BEGIN:VCALENDAR
PRODID:-//eluceo/ical//2.0/EN
VERSION:2.0
CALSCALE:GREGORIAN
BEGIN:VEVENT
UID:c799dfb3e5716ece71fb1caeebcf1f0e
DTSTAMP:20260423T010003Z
SUMMARY:Clubversammlung mit Apéro ab 11.45 Uhr
DESCRIPTION:Web stranica: http://www.lacouronne-solothurn.ch
URL:https://rotary-solothurn.ch/bs/agenda/show/151542
DTSTART;TZID=Europe/Zurich:20221121T114500
DTEND;TZID=Europe/Zurich:20221121T133000
LOCATION:La Couronne\, Hauptgasse 64\, 4500 Solothurn
CATEGORIES:Rotary
END:VEVENT
BEGIN:VTIMEZONE
TZID:Europe/Zurich
BEGIN:STANDARD
DTSTART:20221121T114500
TZNAME:CET
TZOFFSETTO:+0100
TZOFFSETFROM:+0100
END:STANDARD
END:VTIMEZONE
END:VCALENDAR
