BEGIN:VCALENDAR
PRODID:-//eluceo/ical//2.0/EN
VERSION:2.0
CALSCALE:GREGORIAN
BEGIN:VEVENT
UID:f43bb47c883d669c9012fba864b50452
DTSTAMP:20260423T003111Z
SUMMARY:Re-Klassifikationsvortrag
DESCRIPTION:Web stranica: http://www.lacouronne-solothurn.ch\nGovornik(ci):
  Urs Matter
URL:https://rotary-solothurn.ch/bs/agenda/show/154474
DTSTART;TZID=Europe/Zurich:20230130T121500
DTEND;TZID=Europe/Zurich:20230130T133000
LOCATION:La Couronne\, Hauptgasse 64\, 4500 Solothurn
CATEGORIES:Rotary
END:VEVENT
BEGIN:VTIMEZONE
TZID:Europe/Zurich
BEGIN:STANDARD
DTSTART:20230130T121500
TZNAME:CET
TZOFFSETTO:+0100
TZOFFSETFROM:+0100
END:STANDARD
END:VTIMEZONE
END:VCALENDAR
