BEGIN:VCALENDAR
PRODID:-//eluceo/ical//2.0/EN
VERSION:2.0
CALSCALE:GREGORIAN
BEGIN:VEVENT
UID:a39a99325c059954211c21698c23f69c
DTSTAMP:20260423T002846Z
SUMMARY:Seniorenlunch
DESCRIPTION:
URL:https://rotary-solothurn.ch/bs/agenda/show/156072
DTSTART;TZID=Europe/Zurich:20230214T120000
DTEND;TZID=Europe/Zurich:20230214T133000
LOCATION:Restaurant Buchser\, Feldbrunnen
CATEGORIES:Rotary
END:VEVENT
BEGIN:VTIMEZONE
TZID:Europe/Zurich
BEGIN:STANDARD
DTSTART:20230214T120000
TZNAME:CET
TZOFFSETTO:+0100
TZOFFSETFROM:+0100
END:STANDARD
END:VTIMEZONE
END:VCALENDAR
