BEGIN:VCALENDAR
PRODID:-//eluceo/ical//2.0/EN
VERSION:2.0
CALSCALE:GREGORIAN
BEGIN:VEVENT
UID:b3417e9cd17ec3b04594a302dada647a
DTSTAMP:20260422T231518Z
SUMMARY:Rot. Näder Helmy "Querschnitt durch die Hüfte"
DESCRIPTION:Web stranica: http://www.lacouronne-solothurn.ch\nGovornik(ci):
  Rot. Näder Helmy
URL:https://rotary-solothurn.ch/bs/agenda/show/157559
DTSTART;TZID=Europe/Zurich:20230313T121500
DTEND;TZID=Europe/Zurich:20230313T133000
LOCATION:La Couronne\, Hauptgasse 64\, 4500 Solothurn
CATEGORIES:Rotary
END:VEVENT
BEGIN:VTIMEZONE
TZID:Europe/Zurich
BEGIN:STANDARD
DTSTART:20230313T121500
TZNAME:CET
TZOFFSETTO:+0100
TZOFFSETFROM:+0100
END:STANDARD
END:VTIMEZONE
END:VCALENDAR
