BEGIN:VCALENDAR
PRODID:-//eluceo/ical//2.0/EN
VERSION:2.0
CALSCALE:GREGORIAN
BEGIN:VEVENT
UID:32b8579a6d7736c9fac2f029f029c1a3
DTSTAMP:20260422T230818Z
SUMMARY:Öefi-Bier
DESCRIPTION:Web stranica: http://www.oeufi-bier.ch
URL:https://rotary-solothurn.ch/bs/agenda/show/158123
DTSTART;TZID=Europe/Zurich:20230419T180000
DTEND;TZID=Europe/Zurich:20230419T190000
LOCATION:Öufi-Beiz und Brauerei   / Präsenzapéro\, Fabrikstrasse 4\, 450
 0 Solothurn
CATEGORIES:Rotary
END:VEVENT
BEGIN:VTIMEZONE
TZID:Europe/Zurich
BEGIN:DAYLIGHT
DTSTART:20230419T180000
TZNAME:CEST
TZOFFSETTO:+0200
TZOFFSETFROM:+0200
END:DAYLIGHT
END:VTIMEZONE
END:VCALENDAR
