BEGIN:VCALENDAR
PRODID:-//eluceo/ical//2.0/EN
VERSION:2.0
CALSCALE:GREGORIAN
BEGIN:VEVENT
UID:f5bbf478726e5bf5b9ddf57f149cb3e6
DTSTAMP:20260424T184003Z
SUMMARY:Rot. Paul Eitel\; Vererben und erben
DESCRIPTION:Web stranica: http://www.lacouronne-solothurn.ch\nGovornik(ci):
  Rot. Paul Eitel
URL:https://rotary-solothurn.ch/bs/agenda/show/159455
DTSTART;TZID=Europe/Zurich:20230515T121500
DTEND;TZID=Europe/Zurich:20230515T133000
LOCATION:La Couronne\, Hauptgasse 64\, 4500 Solothurn
CATEGORIES:Rotary
END:VEVENT
BEGIN:VTIMEZONE
TZID:Europe/Zurich
BEGIN:DAYLIGHT
DTSTART:20230515T121500
TZNAME:CEST
TZOFFSETTO:+0200
TZOFFSETFROM:+0200
END:DAYLIGHT
END:VTIMEZONE
END:VCALENDAR
