BEGIN:VCALENDAR
PRODID:-//eluceo/ical//2.0/EN
VERSION:2.0
CALSCALE:GREGORIAN
BEGIN:VEVENT
UID:1cc0a4c285a24b900e486186eb1465aa
DTSTAMP:20260422T125013Z
SUMMARY:Jahresschlussfeier
DESCRIPTION:Govornik(ci): Präsident: Terry Spillmann\; Gastautor: Alex Cap
 us
URL:https://rotary-solothurn.ch/bs/agenda/show/26217
DTSTART;TZID=Europe/Zurich:20121130T183000
DTEND;TZID=Europe/Zurich:20121130T203000
LOCATION:Restaurant  Attisholz\, 4533 Riedholz
CATEGORIES:Rotary
END:VEVENT
BEGIN:VTIMEZONE
TZID:Europe/Zurich
BEGIN:STANDARD
DTSTART:20121130T183000
TZNAME:CET
TZOFFSETTO:+0100
TZOFFSETFROM:+0100
END:STANDARD
END:VTIMEZONE
END:VCALENDAR
