BEGIN:VCALENDAR
PRODID:-//eluceo/ical//2.0/EN
VERSION:2.0
CALSCALE:GREGORIAN
BEGIN:VEVENT
UID:ead82890b5365b799e381cf6c1f08fe3
DTSTAMP:20260424T090048Z
SUMMARY:Sonntagsbrunch auf Schloss Thunstetten
DESCRIPTION:Anmeldungen bitte an Rot. Barbara Locher
URL:https://rotary-solothurn.ch/bs/agenda/show/30674
DTSTART;TZID=Europe/Zurich:20130623T103000
DTEND;TZID=Europe/Zurich:20130623T160000
LOCATION:Schloss Thunstetten
CATEGORIES:Rotary
END:VEVENT
BEGIN:VTIMEZONE
TZID:Europe/Zurich
BEGIN:DAYLIGHT
DTSTART:20130623T103000
TZNAME:CEST
TZOFFSETTO:+0200
TZOFFSETFROM:+0200
END:DAYLIGHT
END:VTIMEZONE
END:VCALENDAR
