BEGIN:VCALENDAR
PRODID:-//eluceo/ical//2.0/EN
VERSION:2.0
CALSCALE:GREGORIAN
BEGIN:VEVENT
UID:d4d37ba30eabd5c30fde585188df1bdf
DTSTAMP:20260422T162517Z
SUMMARY:kein Lunch
DESCRIPTION:
URL:https://rotary-solothurn.ch/bs/agenda/show/36745
DTSTART;TZID=Europe/Zurich:20131230T000000
DTEND;TZID=Europe/Zurich:20131230T000000
LOCATION:Zunfthaus zu Wirthen
CATEGORIES:Rotary
END:VEVENT
BEGIN:VTIMEZONE
TZID:Europe/Zurich
BEGIN:STANDARD
DTSTART:20131230T000000
TZNAME:CET
TZOFFSETTO:+0100
TZOFFSETFROM:+0100
END:STANDARD
END:VTIMEZONE
END:VCALENDAR
