BEGIN:VCALENDAR
PRODID:-//eluceo/ical//2.0/EN
VERSION:2.0
CALSCALE:GREGORIAN
BEGIN:VEVENT
UID:9ae36060d56e7e51c9d627ad6c3eb9c2
DTSTAMP:20260422T163139Z
SUMMARY:Kieferorthopädie bei Erwachsenen
DESCRIPTION:Govornik(ci): Dr. Jan Danz
URL:https://rotary-solothurn.ch/bs/agenda/show/36748
DTSTART;TZID=Europe/Zurich:20140120T121500
DTEND;TZID=Europe/Zurich:20140120T134500
LOCATION:Zunfthaus zu Wirthen
CATEGORIES:Rotary
END:VEVENT
BEGIN:VTIMEZONE
TZID:Europe/Zurich
BEGIN:STANDARD
DTSTART:20140120T121500
TZNAME:CET
TZOFFSETTO:+0100
TZOFFSETFROM:+0100
END:STANDARD
END:VTIMEZONE
END:VCALENDAR
