BEGIN:VCALENDAR
PRODID:-//eluceo/ical//2.0/EN
VERSION:2.0
CALSCALE:GREGORIAN
BEGIN:VEVENT
UID:12c30240bf631019bf2de4c170ae144b
DTSTAMP:20260419T121742Z
SUMMARY:Hotel Krone: Projekt Umbau und Sanierung - Konzept Hotel und Gastro
 nomie
DESCRIPTION:Govornik(ci): Rot. Benedikt Graf\, Martin Volkart
URL:https://rotary-solothurn.ch/bs/agenda/show/40338
DTSTART;TZID=Europe/Zurich:20140505T121500
DTEND;TZID=Europe/Zurich:20140505T134500
LOCATION:Zunfthaus zu Wirthen
CATEGORIES:Rotary
END:VEVENT
BEGIN:VTIMEZONE
TZID:Europe/Zurich
BEGIN:DAYLIGHT
DTSTART:20140505T121500
TZNAME:CEST
TZOFFSETTO:+0200
TZOFFSETFROM:+0200
END:DAYLIGHT
END:VTIMEZONE
END:VCALENDAR
