BEGIN:VCALENDAR
PRODID:-//eluceo/ical//2.0/EN
VERSION:2.0
CALSCALE:GREGORIAN
BEGIN:VEVENT
UID:de37fcf0dbc48e7615e788282b3183b3
DTSTAMP:20260426T001641Z
SUMMARY:" KMU - Kunden Marketing Unternehmenskultur "
DESCRIPTION:Referenten/innen: Enrico Casanovas
URL:https://rotary-solothurn.ch/de/agenda/show/29081
DTSTART;TZID=Europe/Zurich:20130225T121500
DTEND;TZID=Europe/Zurich:20130225T141500
LOCATION:Zunfthaus zu Wirthen
CATEGORIES:Rotary
END:VEVENT
BEGIN:VTIMEZONE
TZID:Europe/Zurich
BEGIN:STANDARD
DTSTART:20130225T121500
TZNAME:CET
TZOFFSETTO:+0100
TZOFFSETFROM:+0100
END:STANDARD
END:VTIMEZONE
END:VCALENDAR
