BEGIN:VCALENDAR
PRODID:-//eluceo/ical//2.0/EN
VERSION:2.0
CALSCALE:GREGORIAN
BEGIN:VEVENT
UID:6a457d16a545a0d32dd6914056cd316e
DTSTAMP:20260421T153908Z
SUMMARY:Information zum Sterbehospiz Solothurn
DESCRIPTION:Sitio web: http://www.lacouronne-solothurn.ch
URL:https://rotary-solothurn.ch/es/agenda/show/133840
DTSTART;TZID=Europe/Zurich:20211019T184500
DTEND;TZID=Europe/Zurich:20211019T210000
LOCATION:La Couronne\, Hauptgasse 64\, 4500 Solothurn
CATEGORIES:Rotary
END:VEVENT
BEGIN:VTIMEZONE
TZID:Europe/Zurich
BEGIN:DAYLIGHT
DTSTART:20211019T184500
TZNAME:CEST
TZOFFSETTO:+0200
TZOFFSETFROM:+0200
END:DAYLIGHT
END:VTIMEZONE
END:VCALENDAR
