BEGIN:VCALENDAR
PRODID:-//eluceo/ical//2.0/EN
VERSION:2.0
CALSCALE:GREGORIAN
BEGIN:VEVENT
UID:7ac8c79aa625fe8dd430bdafbe40eeaa
DTSTAMP:20260421T171758Z
SUMMARY:Besuch Governor
DESCRIPTION:Sitio web: http://www.lacouronne-solothurn.ch
URL:https://rotary-solothurn.ch/es/agenda/show/134085
DTSTART;TZID=Europe/Zurich:20211122T104500
DTEND;TZID=Europe/Zurich:20211122T140000
LOCATION:La Couronne\, Hauptgasse 64\, 4500 Solothurn
CATEGORIES:Rotary
END:VEVENT
BEGIN:VTIMEZONE
TZID:Europe/Zurich
BEGIN:STANDARD
DTSTART:20211122T104500
TZNAME:CET
TZOFFSETTO:+0100
TZOFFSETFROM:+0100
END:STANDARD
END:VTIMEZONE
END:VCALENDAR
