BEGIN:VCALENDAR
PRODID:-//eluceo/ical//2.0/EN
VERSION:2.0
CALSCALE:GREGORIAN
BEGIN:VEVENT
UID:4861d6e7646af26d251c28a70db20ff4
DTSTAMP:20260419T192406Z
SUMMARY:Clubversammlung (Amtsübergabe)
DESCRIPTION:Orador(es): Rot. Walter Wirth
URL:https://rotary-solothurn.ch/es/agenda/show/23358
DTSTART;TZID=Europe/Zurich:20120625T121500
DTEND;TZID=Europe/Zurich:20120625T141500
LOCATION:Hotel Krone
CATEGORIES:Rotary
END:VEVENT
BEGIN:VTIMEZONE
TZID:Europe/Zurich
BEGIN:DAYLIGHT
DTSTART:20120625T121500
TZNAME:CEST
TZOFFSETTO:+0200
TZOFFSETFROM:+0200
END:DAYLIGHT
END:VTIMEZONE
END:VCALENDAR
