BEGIN:VCALENDAR
PRODID:-//eluceo/ical//2.0/EN
VERSION:2.0
CALSCALE:GREGORIAN
BEGIN:VEVENT
UID:90ad219b5fe22151d35dc6ccd1d49dad
DTSTAMP:20260423T131546Z
SUMMARY:Rotarytalk : Kultur in der Architektur\, Baukultur
DESCRIPTION:Orador(es):  Rotarier: Graf\, Arnet\,Lenggenhager
URL:https://rotary-solothurn.ch/es/agenda/show/23885
DTSTART;TZID=Europe/Zurich:20120702T121500
DTEND;TZID=Europe/Zurich:20120702T141500
LOCATION:Hotel Krone
CATEGORIES:Rotary
END:VEVENT
BEGIN:VTIMEZONE
TZID:Europe/Zurich
BEGIN:DAYLIGHT
DTSTART:20120702T121500
TZNAME:CEST
TZOFFSETTO:+0200
TZOFFSETFROM:+0200
END:DAYLIGHT
END:VTIMEZONE
END:VCALENDAR
