BEGIN:VCALENDAR
PRODID:-//eluceo/ical//2.0/EN
VERSION:2.0
CALSCALE:GREGORIAN
BEGIN:VEVENT
UID:bc6f4a10fdb393c728868aa6686baa69
DTSTAMP:20260419T192558Z
SUMMARY:Plauderlunch
DESCRIPTION:
URL:https://rotary-solothurn.ch/es/agenda/show/24649
DTSTART;TZID=Europe/Zurich:20120723T121500
DTEND;TZID=Europe/Zurich:20120723T141500
LOCATION:Palais Besenval
CATEGORIES:Rotary
END:VEVENT
BEGIN:VTIMEZONE
TZID:Europe/Zurich
BEGIN:DAYLIGHT
DTSTART:20120723T121500
TZNAME:CEST
TZOFFSETTO:+0200
TZOFFSETFROM:+0200
END:DAYLIGHT
END:VTIMEZONE
END:VCALENDAR
