BEGIN:VCALENDAR
PRODID:-//eluceo/ical//2.0/EN
VERSION:2.0
CALSCALE:GREGORIAN
BEGIN:VEVENT
UID:599722e56bd4afc68b40c1ea2ac5027b
DTSTAMP:20260419T192224Z
SUMMARY:" Austausch - einmal anders"
DESCRIPTION:Orador(es): Marlies Czerny\, Gastjournalistin bei der Solothurn
 er Zeitung
URL:https://rotary-solothurn.ch/es/agenda/show/24847
DTSTART;TZID=Europe/Zurich:20120723T121500
DTEND;TZID=Europe/Zurich:20120723T141500
LOCATION:Palais Besenval
CATEGORIES:Rotary
END:VEVENT
BEGIN:VTIMEZONE
TZID:Europe/Zurich
BEGIN:DAYLIGHT
DTSTART:20120723T121500
TZNAME:CEST
TZOFFSETTO:+0200
TZOFFSETFROM:+0200
END:DAYLIGHT
END:VTIMEZONE
END:VCALENDAR
