BEGIN:VCALENDAR
PRODID:-//eluceo/ical//2.0/EN
VERSION:2.0
CALSCALE:GREGORIAN
BEGIN:VEVENT
UID:0a7b1f003cc3fa1b75d2d68dfd94ed5b
DTSTAMP:20260423T214655Z
SUMMARY:Trauerlunch von Willy Emch
DESCRIPTION:Orador(es): Rot. Rolf Beeler
URL:https://rotary-solothurn.ch/es/agenda/show/29674
DTSTART;TZID=Europe/Zurich:20130408T121500
DTEND;TZID=Europe/Zurich:20130408T134500
LOCATION:Zunfthaus zu Wirthen
CATEGORIES:Rotary
END:VEVENT
BEGIN:VTIMEZONE
TZID:Europe/Zurich
BEGIN:DAYLIGHT
DTSTART:20130408T121500
TZNAME:CEST
TZOFFSETTO:+0200
TZOFFSETFROM:+0200
END:DAYLIGHT
END:VTIMEZONE
END:VCALENDAR
