BEGIN:VCALENDAR
PRODID:-//eluceo/ical//2.0/EN
VERSION:2.0
CALSCALE:GREGORIAN
BEGIN:VEVENT
UID:d4631a901a823f890927842f5db133d1
DTSTAMP:20260419T230144Z
SUMMARY:"Ein Leben als Maler"
DESCRIPTION:Orador(es): Roman Candio
URL:https://rotary-solothurn.ch/es/agenda/show/30980
DTSTART;TZID=Europe/Zurich:20130513T121500
DTEND;TZID=Europe/Zurich:20130513T134500
LOCATION:Zunfthaus zu Wirthen
CATEGORIES:Rotary
END:VEVENT
BEGIN:VTIMEZONE
TZID:Europe/Zurich
BEGIN:DAYLIGHT
DTSTART:20130513T121500
TZNAME:CEST
TZOFFSETTO:+0200
TZOFFSETFROM:+0200
END:DAYLIGHT
END:VTIMEZONE
END:VCALENDAR
