BEGIN:VCALENDAR
PRODID:-//eluceo/ical//2.0/EN
VERSION:2.0
CALSCALE:GREGORIAN
BEGIN:VEVENT
UID:ed97214746f3216c2149a6dea9c568a4
DTSTAMP:20260420T002317Z
SUMMARY:"Meine Erinnerungen und Erfahrungen mit Meret Oppenheim"
DESCRIPTION:Orador(es): Hans Christoph von Tavel
URL:https://rotary-solothurn.ch/es/agenda/show/31131
DTSTART;TZID=Europe/Zurich:20130603T121500
DTEND;TZID=Europe/Zurich:20130603T134500
LOCATION:Zunfthaus zu Wirthen
CATEGORIES:Rotary
END:VEVENT
BEGIN:VTIMEZONE
TZID:Europe/Zurich
BEGIN:DAYLIGHT
DTSTART:20130603T121500
TZNAME:CEST
TZOFFSETTO:+0200
TZOFFSETFROM:+0200
END:DAYLIGHT
END:VTIMEZONE
END:VCALENDAR
