BEGIN:VCALENDAR
PRODID:-//eluceo/ical//2.0/EN
VERSION:2.0
CALSCALE:GREGORIAN
BEGIN:VEVENT
UID:57dc1e5c2f96b78c2440df331e310397
DTSTAMP:20260419T225817Z
SUMMARY:"20 Jahre Buchhandel im Wandel"
DESCRIPTION:Orador(es): Simone Lüthy
URL:https://rotary-solothurn.ch/es/agenda/show/31134
DTSTART;TZID=Europe/Zurich:20130617T121500
DTEND;TZID=Europe/Zurich:20130617T134500
LOCATION:Zunfthaus zu Wirthen
CATEGORIES:Rotary
END:VEVENT
BEGIN:VTIMEZONE
TZID:Europe/Zurich
BEGIN:DAYLIGHT
DTSTART:20130617T121500
TZNAME:CEST
TZOFFSETTO:+0200
TZOFFSETFROM:+0200
END:DAYLIGHT
END:VTIMEZONE
END:VCALENDAR
