BEGIN:VCALENDAR
PRODID:-//eluceo/ical//2.0/EN
VERSION:2.0
CALSCALE:GREGORIAN
BEGIN:VEVENT
UID:70bdc0713a72cd5596f07ee7b3ab22c2
DTSTAMP:20260421T150554Z
SUMMARY:Skiweekend Zermatt mit Partnerclub Wiesbaden
DESCRIPTION:Site internet: http://www.lacouronne-solothurn.ch
URL:https://rotary-solothurn.ch/fr/agenda/show/131410
DTSTART;TZID=Europe/Zurich:20211210T113000
DTEND;TZID=Europe/Zurich:20211212T160000
LOCATION:Hotel Mont Cervin Palace\, Zermatt
CATEGORIES:Rotary
END:VEVENT
BEGIN:VTIMEZONE
TZID:Europe/Zurich
BEGIN:STANDARD
DTSTART:20211210T113000
TZNAME:CET
TZOFFSETTO:+0100
TZOFFSETFROM:+0100
END:STANDARD
END:VTIMEZONE
END:VCALENDAR
