BEGIN:VCALENDAR
PRODID:-//eluceo/ical//2.0/EN
VERSION:2.0
CALSCALE:GREGORIAN
BEGIN:VEVENT
UID:b3895e8680f8713b630d7265131b54dd
DTSTAMP:20260421T151516Z
SUMMARY:Kein Lunch
DESCRIPTION:Site internet: http://www.lacouronne-solothurn.ch
URL:https://rotary-solothurn.ch/fr/agenda/show/134082
DTSTART;TZID=Europe/Zurich:20211101T121500
DTEND;TZID=Europe/Zurich:20211101T140000
LOCATION:La Couronne\, Hauptgasse 64\, 4500 Solothurn
CATEGORIES:Rotary
END:VEVENT
BEGIN:VTIMEZONE
TZID:Europe/Zurich
BEGIN:STANDARD
DTSTART:20211101T121500
TZNAME:CET
TZOFFSETTO:+0100
TZOFFSETFROM:+0100
END:STANDARD
END:VTIMEZONE
END:VCALENDAR
