BEGIN:VCALENDAR
PRODID:-//eluceo/ical//2.0/EN
VERSION:2.0
CALSCALE:GREGORIAN
BEGIN:VEVENT
UID:52a839e77866dd0104d97032a0aad202
DTSTAMP:20260421T151000Z
SUMMARY:Die Schweiz hat einen Rückstand bei der Photovoltaik
DESCRIPTION:Site internet: http://www.lacouronne-solothurn.ch
URL:https://rotary-solothurn.ch/fr/agenda/show/134083
DTSTART;TZID=Europe/Zurich:20211108T121500
DTEND;TZID=Europe/Zurich:20211108T140000
LOCATION:La Couronne\, Hauptgasse 64\, 4500 Solothurn
CATEGORIES:Rotary
END:VEVENT
BEGIN:VTIMEZONE
TZID:Europe/Zurich
BEGIN:STANDARD
DTSTART:20211108T121500
TZNAME:CET
TZOFFSETTO:+0100
TZOFFSETFROM:+0100
END:STANDARD
END:VTIMEZONE
END:VCALENDAR
