BEGIN:VCALENDAR
PRODID:-//eluceo/ical//2.0/EN
VERSION:2.0
CALSCALE:GREGORIAN
BEGIN:VEVENT
UID:da72568ce9bf4ef6f1951cad03a7e37e
DTSTAMP:20260425T120915Z
SUMMARY:Öufi-Bier
DESCRIPTION:Site internet: http://www.oeufi-bier.ch
URL:https://rotary-solothurn.ch/fr/agenda/show/134086
DTSTART;TZID=Europe/Zurich:20211117T180000
DTEND;TZID=Europe/Zurich:20211117T200000
LOCATION:Öufi-Beiz und Brauerei   / Präsenzapéro\, Fabrikstrasse 4\, 450
 0 Solothurn
CATEGORIES:Rotary
END:VEVENT
BEGIN:VTIMEZONE
TZID:Europe/Zurich
BEGIN:STANDARD
DTSTART:20211117T180000
TZNAME:CET
TZOFFSETTO:+0100
TZOFFSETFROM:+0100
END:STANDARD
END:VTIMEZONE
END:VCALENDAR
