BEGIN:VCALENDAR
PRODID:-//eluceo/ical//2.0/EN
VERSION:2.0
CALSCALE:GREGORIAN
BEGIN:VEVENT
UID:07f0fd26ef2b672bffc28f741aba3570
DTSTAMP:20260421T150128Z
SUMMARY:Rotary-Frühstück
DESCRIPTION:Site internet: https://gasthofenge.ch/
URL:https://rotary-solothurn.ch/fr/agenda/show/134088
DTSTART;TZID=Europe/Zurich:20211202T070000
DTEND;TZID=Europe/Zurich:20211202T074500
LOCATION:Restaurant Enge Biberist
CATEGORIES:Rotary
END:VEVENT
BEGIN:VTIMEZONE
TZID:Europe/Zurich
BEGIN:STANDARD
DTSTART:20211202T070000
TZNAME:CET
TZOFFSETTO:+0100
TZOFFSETFROM:+0100
END:STANDARD
END:VTIMEZONE
END:VCALENDAR
