BEGIN:VCALENDAR
PRODID:-//eluceo/ical//2.0/EN
VERSION:2.0
CALSCALE:GREGORIAN
BEGIN:VEVENT
UID:4fff66f786eda3f35e8db1695d4c245e
DTSTAMP:20260421T163519Z
SUMMARY:Öufi-Bier
DESCRIPTION:Site internet: http://www.oeufi-bier.ch
URL:https://rotary-solothurn.ch/fr/agenda/show/134091
DTSTART;TZID=Europe/Zurich:20211215T180000
DTEND;TZID=Europe/Zurich:20211215T200000
LOCATION:Öufi-Beiz und Brauerei   / Präsenzapéro\, Fabrikstrasse 4\, 450
 0 Solothurn
CATEGORIES:Rotary
END:VEVENT
BEGIN:VTIMEZONE
TZID:Europe/Zurich
BEGIN:STANDARD
DTSTART:20211215T180000
TZNAME:CET
TZOFFSETTO:+0100
TZOFFSETFROM:+0100
END:STANDARD
END:VTIMEZONE
END:VCALENDAR
