BEGIN:VCALENDAR
PRODID:-//eluceo/ical//2.0/EN
VERSION:2.0
CALSCALE:GREGORIAN
BEGIN:VEVENT
UID:21f6b8c032b6aec043dd4468f101edf1
DTSTAMP:20260421T163720Z
SUMMARY:Gedanken zu Weihnachten
DESCRIPTION:Site internet: http://www.lacouronne-solothurn.ch
URL:https://rotary-solothurn.ch/fr/agenda/show/134092
DTSTART;TZID=Europe/Zurich:20211220T121500
DTEND;TZID=Europe/Zurich:20211220T140000
LOCATION:La Couronne\, Hauptgasse 64\, 4500 Solothurn
CATEGORIES:Rotary
END:VEVENT
BEGIN:VTIMEZONE
TZID:Europe/Zurich
BEGIN:STANDARD
DTSTART:20211220T121500
TZNAME:CET
TZOFFSETTO:+0100
TZOFFSETFROM:+0100
END:STANDARD
END:VTIMEZONE
END:VCALENDAR
