BEGIN:VCALENDAR
PRODID:-//eluceo/ical//2.0/EN
VERSION:2.0
CALSCALE:GREGORIAN
BEGIN:VEVENT
UID:66d56e3adb868fa7b13d6e4d14991496
DTSTAMP:20260423T120337Z
SUMMARY:Re-Klassifikationsvortrag von Rot. Beat Käch
DESCRIPTION:Site internet: http://www.lacouronne-solothurn.ch
URL:https://rotary-solothurn.ch/fr/agenda/show/134103
DTSTART;TZID=Europe/Zurich:20220221T121500
DTEND;TZID=Europe/Zurich:20220221T140000
LOCATION:La Couronne\, Hauptgasse 64\, 4500 Solothurn
CATEGORIES:Rotary
END:VEVENT
BEGIN:VTIMEZONE
TZID:Europe/Zurich
BEGIN:STANDARD
DTSTART:20220221T121500
TZNAME:CET
TZOFFSETTO:+0100
TZOFFSETFROM:+0100
END:STANDARD
END:VTIMEZONE
END:VCALENDAR
