BEGIN:VCALENDAR
PRODID:-//eluceo/ical//2.0/EN
VERSION:2.0
CALSCALE:GREGORIAN
BEGIN:VEVENT
UID:9fa7ae58e07c3d6e8f9561721b90653c
DTSTAMP:20260423T103313Z
SUMMARY:Rotary-Frühstück
DESCRIPTION:Site internet: https://gasthofenge.ch/
URL:https://rotary-solothurn.ch/fr/agenda/show/134110
DTSTART;TZID=Europe/Zurich:20220303T070000
DTEND;TZID=Europe/Zurich:20220303T074500
LOCATION:Restaurant Enge Biberist
CATEGORIES:Rotary
END:VEVENT
BEGIN:VTIMEZONE
TZID:Europe/Zurich
BEGIN:STANDARD
DTSTART:20220303T070000
TZNAME:CET
TZOFFSETTO:+0100
TZOFFSETFROM:+0100
END:STANDARD
END:VTIMEZONE
END:VCALENDAR
