BEGIN:VCALENDAR
PRODID:-//eluceo/ical//2.0/EN
VERSION:2.0
CALSCALE:GREGORIAN
BEGIN:VEVENT
UID:f07068173867d25939609abea437c87e
DTSTAMP:20260421T182213Z
SUMMARY:Wanderung Oberdorf - Hinterweissenstein
DESCRIPTION:Site internet: https://www.hinterweissenstein.ch/
URL:https://rotary-solothurn.ch/fr/agenda/show/136477
DTSTART;TZID=Europe/Zurich:20220609T180000
DTEND;TZID=Europe/Zurich:20220609T180000
LOCATION:Weberhüsli - Hinterweissenstein
CATEGORIES:Rotary
END:VEVENT
BEGIN:VTIMEZONE
TZID:Europe/Zurich
BEGIN:DAYLIGHT
DTSTART:20220609T180000
TZNAME:CEST
TZOFFSETTO:+0200
TZOFFSETFROM:+0200
END:DAYLIGHT
END:VTIMEZONE
END:VCALENDAR
