BEGIN:VCALENDAR
PRODID:-//eluceo/ical//2.0/EN
VERSION:2.0
CALSCALE:GREGORIAN
BEGIN:VEVENT
UID:75d8d04827a59df99d1879d5f981a081
DTSTAMP:20260420T125831Z
SUMMARY:Skiweekend Zermatt mit Partnerclub Wiesbaden
DESCRIPTION:
URL:https://rotary-solothurn.ch/fr/agenda/show/149381
DTSTART;TZID=Europe/Zurich:20221209T113000
DTEND;TZID=Europe/Zurich:20221211T160000
LOCATION:Hotel Mont Cervin Palace\, Zermatt
CATEGORIES:Rotary
END:VEVENT
BEGIN:VTIMEZONE
TZID:Europe/Zurich
BEGIN:STANDARD
DTSTART:20221209T113000
TZNAME:CET
TZOFFSETTO:+0100
TZOFFSETFROM:+0100
END:STANDARD
END:VTIMEZONE
END:VCALENDAR
