BEGIN:VCALENDAR
PRODID:-//eluceo/ical//2.0/EN
VERSION:2.0
CALSCALE:GREGORIAN
BEGIN:VEVENT
UID:56c3890fafe57c45ad7f4de3b967872c
DTSTAMP:20260424T090457Z
SUMMARY:11i-Bier
DESCRIPTION:Site internet: http://www.oeufi-bier.ch
URL:https://rotary-solothurn.ch/fr/agenda/show/151231
DTSTART;TZID=Europe/Zurich:20221116T180000
DTEND;TZID=Europe/Zurich:20221116T190000
LOCATION:Öufi-Beiz und Brauerei   / Präsenzapéro\, Fabrikstrasse 4\, 450
 0 Solothurn
CATEGORIES:Rotary
END:VEVENT
BEGIN:VTIMEZONE
TZID:Europe/Zurich
BEGIN:STANDARD
DTSTART:20221116T180000
TZNAME:CET
TZOFFSETTO:+0100
TZOFFSETFROM:+0100
END:STANDARD
END:VTIMEZONE
END:VCALENDAR
