BEGIN:VCALENDAR
PRODID:-//eluceo/ical//2.0/EN
VERSION:2.0
CALSCALE:GREGORIAN
BEGIN:VEVENT
UID:175525f11fcf7f752bae3a44c3b5c4a3
DTSTAMP:20260424T085459Z
SUMMARY:Klassifikationsvortrag
DESCRIPTION:Site internet: http://www.lacouronne-solothurn.ch\nConférencie
 r(s): Tom Burkhalter
URL:https://rotary-solothurn.ch/fr/agenda/show/152898
DTSTART;TZID=Europe/Zurich:20221212T121500
DTEND;TZID=Europe/Zurich:20221212T133000
LOCATION:La Couronne\, Hauptgasse 64\, 4500 Solothurn
CATEGORIES:Rotary
END:VEVENT
BEGIN:VTIMEZONE
TZID:Europe/Zurich
BEGIN:STANDARD
DTSTART:20221212T121500
TZNAME:CET
TZOFFSETTO:+0100
TZOFFSETFROM:+0100
END:STANDARD
END:VTIMEZONE
END:VCALENDAR
