BEGIN:VCALENDAR
PRODID:-//eluceo/ical//2.0/EN
VERSION:2.0
CALSCALE:GREGORIAN
BEGIN:VEVENT
UID:fed0b7890e358a486ce9e960a0870e94
DTSTAMP:20260422T084922Z
SUMMARY:Rot. Sven Zybell informiert über den Berufsdienst
DESCRIPTION:Site internet: http://www.lacouronne-solothurn.ch\nConférencie
 r(s): Rot. Sven Zybell
URL:https://rotary-solothurn.ch/fr/agenda/show/156707
DTSTART;TZID=Europe/Zurich:20230227T121500
DTEND;TZID=Europe/Zurich:20230227T133000
LOCATION:La Couronne\, Hauptgasse 64\, 4500 Solothurn
CATEGORIES:Rotary
END:VEVENT
BEGIN:VTIMEZONE
TZID:Europe/Zurich
BEGIN:STANDARD
DTSTART:20230227T121500
TZNAME:CET
TZOFFSETTO:+0100
TZOFFSETFROM:+0100
END:STANDARD
END:VTIMEZONE
END:VCALENDAR
