BEGIN:VCALENDAR
PRODID:-//eluceo/ical//2.0/EN
VERSION:2.0
CALSCALE:GREGORIAN
BEGIN:VEVENT
UID:03109e0e64a1e26ec1f133504b2f4db9
DTSTAMP:20260420T110335Z
SUMMARY:Rot. Raoul Stampfli "Mediation"
DESCRIPTION:Site internet: http://www.lacouronne-solothurn.ch\nConférencie
 r(s): Rot. Raoul Stampfli
URL:https://rotary-solothurn.ch/fr/agenda/show/156708
DTSTART;TZID=Europe/Zurich:20230306T121500
DTEND;TZID=Europe/Zurich:20230306T133000
LOCATION:La Couronne\, Hauptgasse 64\, 4500 Solothurn
CATEGORIES:Rotary
END:VEVENT
BEGIN:VTIMEZONE
TZID:Europe/Zurich
BEGIN:STANDARD
DTSTART:20230306T121500
TZNAME:CET
TZOFFSETTO:+0100
TZOFFSETFROM:+0100
END:STANDARD
END:VTIMEZONE
END:VCALENDAR
