BEGIN:VCALENDAR
PRODID:-//eluceo/ical//2.0/EN
VERSION:2.0
CALSCALE:GREGORIAN
BEGIN:VEVENT
UID:fc686e7dbc4171dc1859ebd31c422d9d
DTSTAMP:20260422T085814Z
SUMMARY:Rot. Näder Helmy "Querschnitt durch die Hüfte\, Teil 2"
DESCRIPTION:Site internet: http://www.lacouronne-solothurn.ch\nConférencie
 r(s): Rot. Näder Helmy
URL:https://rotary-solothurn.ch/fr/agenda/show/157886
DTSTART;TZID=Europe/Zurich:20230320T121500
DTEND;TZID=Europe/Zurich:20230320T133000
LOCATION:La Couronne\, Hauptgasse 64\, 4500 Solothurn
CATEGORIES:Rotary
END:VEVENT
BEGIN:VTIMEZONE
TZID:Europe/Zurich
BEGIN:STANDARD
DTSTART:20230320T121500
TZNAME:CET
TZOFFSETTO:+0100
TZOFFSETFROM:+0100
END:STANDARD
END:VTIMEZONE
END:VCALENDAR
