BEGIN:VCALENDAR
PRODID:-//eluceo/ical//2.0/EN
VERSION:2.0
CALSCALE:GREGORIAN
BEGIN:VEVENT
UID:a63bb857f9598a3c32150cc481285a27
DTSTAMP:20260423T210523Z
SUMMARY:Rot. Simon Michel "CO2-neutrale Industrie\, wie geht das?"
DESCRIPTION:Site internet: http://www.lacouronne-solothurn.ch\nConférencie
 r(s): Rot. Simon Michel
URL:https://rotary-solothurn.ch/fr/agenda/show/158119
DTSTART;TZID=Europe/Zurich:20230403T121500
DTEND;TZID=Europe/Zurich:20230403T133000
LOCATION:La Couronne\, Hauptgasse 64\, 4500 Solothurn
CATEGORIES:Rotary
END:VEVENT
BEGIN:VTIMEZONE
TZID:Europe/Zurich
BEGIN:DAYLIGHT
DTSTART:20230403T121500
TZNAME:CEST
TZOFFSETTO:+0200
TZOFFSETFROM:+0200
END:DAYLIGHT
END:VTIMEZONE
END:VCALENDAR
