BEGIN:VCALENDAR
PRODID:-//eluceo/ical//2.0/EN
VERSION:2.0
CALSCALE:GREGORIAN
BEGIN:VEVENT
UID:40d3a727572e6e5deda24be3204ec467
DTSTAMP:20260423T210642Z
SUMMARY:Rotary Frühstück
DESCRIPTION:
URL:https://rotary-solothurn.ch/fr/agenda/show/158122
DTSTART;TZID=Europe/Zurich:20230406T070000
DTEND;TZID=Europe/Zurich:20230406T080000
LOCATION:Gasthof Enge\, Engestrasse 1\, 4500 Solothurn-Biberist
CATEGORIES:Rotary
END:VEVENT
BEGIN:VTIMEZONE
TZID:Europe/Zurich
BEGIN:DAYLIGHT
DTSTART:20230406T070000
TZNAME:CEST
TZOFFSETTO:+0200
TZOFFSETFROM:+0200
END:DAYLIGHT
END:VTIMEZONE
END:VCALENDAR
