BEGIN:VCALENDAR
PRODID:-//eluceo/ical//2.0/EN
VERSION:2.0
CALSCALE:GREGORIAN
BEGIN:VEVENT
UID:b9484f965368bb5a17e5b2d2407464cd
DTSTAMP:20260421T095533Z
SUMMARY:"Sebastian Kneipp - heute aktueller denn je. Tipps für den Alltag 
 und die Gesundheitspolitik"
DESCRIPTION:Conférencier(s): Rot.  dipl. oec. Lothar Burghhardt\, RC Bad W
 örishofen (D)
URL:https://rotary-solothurn.ch/fr/agenda/show/26646
DTSTART;TZID=Europe/Zurich:20121022T121500
DTEND;TZID=Europe/Zurich:20121022T141500
LOCATION:Zunfthaus zu Wirthen
CATEGORIES:Rotary
END:VEVENT
BEGIN:VTIMEZONE
TZID:Europe/Zurich
BEGIN:DAYLIGHT
DTSTART:20121022T121500
TZNAME:CEST
TZOFFSETTO:+0200
TZOFFSETFROM:+0200
END:DAYLIGHT
END:VTIMEZONE
END:VCALENDAR
