BEGIN:VCALENDAR
PRODID:-//eluceo/ical//2.0/EN
VERSION:2.0
CALSCALE:GREGORIAN
BEGIN:VEVENT
UID:f07533d32ecb7e3f1a7254c1100931d2
DTSTAMP:20260421T092638Z
SUMMARY:Plauderlunch mit Aufnahme von Simon Michel
DESCRIPTION:
URL:https://rotary-solothurn.ch/fr/agenda/show/35524
DTSTART;TZID=Europe/Zurich:20131104T121500
DTEND;TZID=Europe/Zurich:20131104T134500
LOCATION:Zunfthaus zu Wirthen
CATEGORIES:Rotary
END:VEVENT
BEGIN:VTIMEZONE
TZID:Europe/Zurich
BEGIN:STANDARD
DTSTART:20131104T121500
TZNAME:CET
TZOFFSETTO:+0100
TZOFFSETFROM:+0100
END:STANDARD
END:VTIMEZONE
END:VCALENDAR
