BEGIN:VCALENDAR
PRODID:-//eluceo/ical//2.0/EN
VERSION:2.0
CALSCALE:GREGORIAN
BEGIN:VEVENT
UID:1e1f04187d131df2cd6bec639a8efa50
DTSTAMP:20260425T134530Z
SUMMARY:Jahresschlussfeier
DESCRIPTION:
URL:https://rotary-solothurn.ch/fr/agenda/show/35881
DTSTART;TZID=Europe/Zurich:20131129T183000
DTEND;TZID=Europe/Zurich:20131129T230000
LOCATION:Restaurant Attisholz\, Riedholz
CATEGORIES:Rotary
END:VEVENT
BEGIN:VTIMEZONE
TZID:Europe/Zurich
BEGIN:STANDARD
DTSTART:20131129T183000
TZNAME:CET
TZOFFSETTO:+0100
TZOFFSETFROM:+0100
END:STANDARD
END:VTIMEZONE
END:VCALENDAR
