BEGIN:VCALENDAR
PRODID:-//eluceo/ical//2.0/EN
VERSION:2.0
CALSCALE:GREGORIAN
BEGIN:VEVENT
UID:b1af379cbc17c5aa476dda4529cc9588
DTSTAMP:20260425T130622Z
SUMMARY:Plauderlunch
DESCRIPTION:
URL:https://rotary-solothurn.ch/fr/agenda/show/36237
DTSTART;TZID=Europe/Zurich:20131202T121500
DTEND;TZID=Europe/Zurich:20131202T134500
LOCATION:Zunfthaus zu Wirthen
CATEGORIES:Rotary
END:VEVENT
BEGIN:VTIMEZONE
TZID:Europe/Zurich
BEGIN:STANDARD
DTSTART:20131202T121500
TZNAME:CET
TZOFFSETTO:+0100
TZOFFSETFROM:+0100
END:STANDARD
END:VTIMEZONE
END:VCALENDAR
